BEGIN:VCALENDAR
VERSION:2.0
PRODID:-//Mimico Residents Association - ECPv6.15.20//NONSGML v1.0//EN
CALSCALE:GREGORIAN
METHOD:PUBLISH
X-ORIGINAL-URL:https://mimicoresidents.ca
X-WR-CALDESC:Events for Mimico Residents Association
REFRESH-INTERVAL;VALUE=DURATION:PT1H
X-Robots-Tag:noindex
X-PUBLISHED-TTL:PT1H
BEGIN:VTIMEZONE
TZID:America/Toronto
BEGIN:DAYLIGHT
TZOFFSETFROM:-0500
TZOFFSETTO:-0400
TZNAME:EDT
DTSTART:20250309T070000
END:DAYLIGHT
BEGIN:STANDARD
TZOFFSETFROM:-0400
TZOFFSETTO:-0500
TZNAME:EST
DTSTART:20251102T060000
END:STANDARD
BEGIN:DAYLIGHT
TZOFFSETFROM:-0500
TZOFFSETTO:-0400
TZNAME:EDT
DTSTART:20260308T070000
END:DAYLIGHT
BEGIN:STANDARD
TZOFFSETFROM:-0400
TZOFFSETTO:-0500
TZNAME:EST
DTSTART:20261101T060000
END:STANDARD
BEGIN:DAYLIGHT
TZOFFSETFROM:-0500
TZOFFSETTO:-0400
TZNAME:EDT
DTSTART:20270314T070000
END:DAYLIGHT
BEGIN:STANDARD
TZOFFSETFROM:-0400
TZOFFSETTO:-0500
TZNAME:EST
DTSTART:20271107T060000
END:STANDARD
END:VTIMEZONE
BEGIN:VEVENT
DTSTART;TZID=America/Toronto:20260919T110000
DTEND;TZID=America/Toronto:20260919T160000
DTSTAMP:20260418T161152
CREATED:20260402T125333Z
LAST-MODIFIED:20260402T125333Z
UID:16168-1789815600-1789833600@mimicoresidents.ca
SUMMARY:3rd Annual Mimico Food Fest & 20th MRA Anniversary
DESCRIPTION:
URL:https://mimicoresidents.ca/event/3rd-annual-mimico-food-fest-20th-mra-anniversary/
LOCATION:Mimico Square\, 2435 Lake Shore Blvd W\, Toronto\, Ontario\, M8V 1C5\, Canada
END:VEVENT
BEGIN:VEVENT
DTSTART;TZID=America/Toronto:20261010T110000
DTEND;TZID=America/Toronto:20261010T160000
DTSTAMP:20260418T161152
CREATED:20260402T121414Z
LAST-MODIFIED:20260402T133730Z
UID:16156-1791630000-1791648000@mimicoresidents.ca
SUMMARY:5th Annual Mimico Fall Fest
DESCRIPTION:more info coming soon
URL:https://mimicoresidents.ca/event/mimico-fall-fest-2/
LOCATION:Mimico Square\, 2435 Lake Shore Blvd W\, Toronto\, Ontario\, M8V 1C5\, Canada
END:VEVENT
BEGIN:VEVENT
DTSTART;TZID=America/Toronto:20261023T180000
DTEND;TZID=America/Toronto:20261023T200000
DTSTAMP:20260418T161152
CREATED:20250922T224701Z
LAST-MODIFIED:20260402T183306Z
UID:14800-1792778400-1792785600@mimicoresidents.ca
SUMMARY:Halloween Family Dance
DESCRIPTION:Presented by the\nMimico Residents Association\nwww.mimicoresidents.ca\n@ David Hornell School\n23 Oct 2026 • 6-8 PM\nCostumes & families with young kids are welcome\nTickets Available online or at the Door\nMusic – Dancing – Food & drinks sold separately \n1 Person Ticket\n \n\n \nFamily Ticket (entry for a group of 5)
URL:https://mimicoresidents.ca/event/halloween-dance-party/
LOCATION:David Hornell Junior School\, 32 Victoria St\, Etobicoke\, Ontario\, M8V1M6\, Canada
ATTACH;FMTTYPE=image/jpeg:https://mimicoresidents.ca/wp-content/uploads/2025/09/MRA-Halloween-Dance-2025.jpg
END:VEVENT
BEGIN:VEVENT
DTSTART;TZID=America/Toronto:20261101T183000
DTEND;TZID=America/Toronto:20261101T203000
DTSTAMP:20260418T161152
CREATED:20260402T142750Z
LAST-MODIFIED:20260402T142750Z
UID:16178-1793557800-1793565000@mimicoresidents.ca
SUMMARY:Mimico Pumpkin Parade
DESCRIPTION:Bring you’re Jack-O-Lanterns to the Mimico Square at Amos Waites park for a final chance to shine!! Join us for an enchanted evening on Saturday November 1st 6:30-8:30pm. Volunteers will be on hand to help but we ask that you bring your own candles/tea lights (not in glass containers) to light the pumpkins
URL:https://mimicoresidents.ca/event/mimico-pumpkin-parade-2/
LOCATION:Mimico Square\, 2435 Lake Shore Blvd W\, Toronto\, Ontario\, M8V 1C5\, Canada
ATTACH;FMTTYPE=image/jpeg:https://mimicoresidents.ca/wp-content/uploads/2025/10/pumpkin_parade.jpg
END:VEVENT
END:VCALENDAR